BEGIN:VCALENDAR
VERSION:2.0
PRODID:-//Stadtgeschichte München//DE
CALSCALE:GREGORIAN
BEGIN:VEVENT
UID:1282@stadtgeschichte-muenchen.de
SUMMARY:Verkehrsrechnerzentrale Südbayern
DESCRIPTION:&lt;p&gt;Durch die Einführung von Verkehrsleitanlagen sind auf bestimmten Autobahnabschnitten die Unfallzahlen um ca. 30 Prozent&amp;nbsp; zurückgegangen. Von der Verkehrsrechnerzentrale Südbayern in Freimann werden die Schilderbrücken über den Autobahnen, die Wechselverkehrszeichen und die Wechselwegweisungen für den Bereich Südbayern gesteuert. Videoüberwachung, Sensoren und Witterungsdaten sind die Basis für die Regelung des Verkehrsgeschehens.&lt;/p&gt; 
DTSTART:20120201T141500
DTEND:20120201T160000
LOCATION:U6 Kieferngarten, Ausgang Busbahnhof 
ORGANIZER:MVHS München Nord
END:VEVENT
END:VCALENDAR