BEGIN:VCALENDAR
VERSION:2.0
PRODID:-//Stadtgeschichte München//DE
CALSCALE:GREGORIAN
BEGIN:VEVENT
UID:12823@stadtgeschichte-muenchen.de
SUMMARY:Berg am Laim: St. Michael - Votivtafeln - Kreuzwegstationen
DESCRIPTION:&lt;p&gt;Die ehemalige Hof- und Bruderschaftskirche St. Michael ist ein Denkmal von europäischem Rang. Seit ihrer Renovierung erstrahlt die Rokokokirche wieder in ihrem ursprünglichen Glanz. Wie die großen Schlossbautenin und um München wurde die heutige Pfarrkirche von Berg am Laim von einem Wittelsbacher erbaut. Nach der Kirchenführung sehen Sie Votivtafeln aus der Loretokirche, die einst eine bekannte Wallfahrtskirche war. Anschließend folgt der Besuch der Kreuzwegstationen im Garten des ehemaligen Instituts der Englischen Fräulein (heute die Maria-Ward-Mädchenrealschule. )&lt;/p&gt; 
DTSTART:20170428T140000
DTEND:20170428T160000
LOCATION:St. Michael, Johann-Michael Fischer- Platz 2 · Clemens-August-Str. 2
ORGANIZER:MVHS München Ost
END:VEVENT
END:VCALENDAR