BEGIN:VCALENDAR
VERSION:2.0
PRODID:-//Stadtgeschichte München//DE
CALSCALE:GREGORIAN
BEGIN:VEVENT
UID:12826@stadtgeschichte-muenchen.de
SUMMARY:München Weltstadt mit Herz in Sand gemalt 
DESCRIPTION:
DTSTART:20170226T110000
DTEND:20170226T000000
LOCATION:
ORGANIZER:
END:VEVENT
END:VCALENDAR