BEGIN:VCALENDAR
VERSION:2.0
PRODID:-//Stadtgeschichte München//DE
CALSCALE:GREGORIAN
BEGIN:VEVENT
UID:12828@stadtgeschichte-muenchen.de
SUMMARY:Wo man im 19. Jh. das Tanzbein schwang
DESCRIPTION:&lt;p&gt;Lange bevor in Bogenhausen Villen errichtet wurden, schwang man in Neuberghausen das Tanzbein. Wie die Menterschwaige und die Waldwirtschaft Großhesselohe war Neuberghausenim 19. Jh. ein beliebtes Ausflugsziel der Münchner Bürger. In Scharen kamen sie über den Englischen Garten und die Bogenhauser Holzbrücke, um sich zu vergnügen. Der Rundgang beleuchtet -anhand von Bildern und Erzählungen- die ehemaligen Bauten rund um St. Georg: pfarrhaus und Schule, Hompesch-Schlössl und die Vorgängerbauten der Lauer-Villa.&lt;/p&gt; 
DTSTART:20170803T180000
DTEND:20170803T200000
LOCATION:am Brunnen beim Prinzregententheater Prinzregentenplatz 12
ORGANIZER:MVHS München Ost
END:VEVENT
END:VCALENDAR