BEGIN:VCALENDAR
VERSION:2.0
PRODID:-//Stadtgeschichte München//DE
CALSCALE:GREGORIAN
BEGIN:VEVENT
UID:12829@stadtgeschichte-muenchen.de
SUMMARY:St . Georg in Bogenhausen
DESCRIPTION:&lt;p&gt;Treffpunkt der Führung ist das Denkmal für Pater Alfred Delp SJ, der als Mitglied des Kreisauer Kreises noch im Februar 1945 von den Nazis hingerichtet wurde. Der Friedhof, wahrscheinlich schon im 9. Jahrhundert angelegt, ist bis heute Ruhestätte bekannter Persönlichkeiten. Kirche, Grabstätten und Denkmäler ergeben ein lebhaftes Bild der Entwicklung Bogenhausens. Dass pätbarockeK leinod St. Georg wurde nach Plänend es Baumeisters Johann Michael Fischer gestaltet und von Balthasar Trischberger vollendet. Kunstvolle Fresken von Johann Baptist Zimmermann und die prachtvolle Ausstattung durch Johann Baptist Straub und lgnaz Günther lassen uns staunen.&lt;/p&gt; 
DTSTART:20170505T160000
DTEND:20170505T180000
LOCATION:Ecke Neuberghauser-/Montgelasstr .Nähe Max-Joseph-Brücke
ORGANIZER:MVHS München Ost
END:VEVENT
END:VCALENDAR