BEGIN:VCALENDAR
VERSION:2.0
PRODID:-//Stadtgeschichte München//DE
CALSCALE:GREGORIAN
BEGIN:VEVENT
UID:1283@stadtgeschichte-muenchen.de
SUMMARY:Der Rangierbahnhof München Nord â€“ High-Tech mit Biotop
DESCRIPTION:&lt;p&gt;120 Kilometer Gleise und &amp;uuml;ber 350 Weichen wurden auf dem kilometerlangen Areal des Rangierbahnhofs M&amp;uuml;nchen Nord verbaut. Mit&lt;br /&gt; seinem elektronischen Stellwerk, dem gr&amp;ouml;&amp;szlig;ten in Europa, und einem rechnergesteuerten Betriebsf&amp;uuml;hrungssystem ist der 1991 in Betrieb genommene Rangierbahnhof weltweit ohne Beispiel. Ein F&amp;uuml;nftel der Baukosten wurde f&amp;uuml;r Umweltschutz und Landschaftspflege ausgegeben, um einen Ausgleich f&amp;uuml;r den gewaltigen st&amp;auml;dtebaulichen Einschnitt zu schaffen. Die F&amp;uuml;hrung zeigt den Ablauf auf dem Gel&amp;auml;nde und gibt einen Einblick in die Betriebssteuerzentrale, in den Disponenten- und Fahrdienstleiterbereich.&lt;/p&gt;
DTSTART:20111122T150000
DTEND:20111122T173000
LOCATION:Deutsche Bahn AG, Gebäude EO, Ludwigsfelder Str. 95
ORGANIZER:MVHS München Mitte   
END:VEVENT
END:VCALENDAR