BEGIN:VCALENDAR
VERSION:2.0
PRODID:-//Stadtgeschichte München//DE
CALSCALE:GREGORIAN
BEGIN:VEVENT
UID:12850@stadtgeschichte-muenchen.de
SUMMARY:Radelnd in den Feierabend
DESCRIPTION:&lt;p&gt;Mit dem Umzug des Flughafens ins Erdinger Moos wurde Platz für einen neuen Stadtteil: der Messestadt Riem. Mit dem Zentrum Ost und dem 4. Bauabschnitt im Westen des Areals wird eine der größten Städtebaumaßnahmen in Europa ihren Abschlussf inden. Bei unserer Radtour sollen die ehemaligen Dörfer Riem, Salmdorf und Trudering nicht vergessen werden, die jahrzehntelange in stilles Dasein „im Windschatten&quot; des ehemaligen Flughafens führten. Hier finden wir außerordentliche Sehenswürdigkeiten wie die „Salmdorfer Pieta&quot;. Die Veranstaltung findet bei jeder Witterung statt.&lt;/p&gt; &lt;p&gt;Bitte ggf. wetterstte Kleidung mitnehmen (Streckenlängec a. 15 km).&lt;/p&gt; 
DTSTART:20170804T160000
DTEND:20170804T190000
LOCATION:Willy-Brandt-Platz, an der „Riemer Reibe\" (U2 Messestadt West)
ORGANIZER:MVHS München Ost
END:VEVENT
END:VCALENDAR