BEGIN:VCALENDAR
VERSION:2.0
PRODID:-//Stadtgeschichte München//DE
CALSCALE:GREGORIAN
BEGIN:VEVENT
UID:12852@stadtgeschichte-muenchen.de
SUMMARY:Verborgene Schätze der Vergangenheit
DESCRIPTION:&lt;p&gt;Es gibt einen guten Grund, sich in die Tiefen des Grünwalder Rathauses zu begeben: Grünwald besitzt schon seit Jahren ein sehr gut erschlossenes Gemeindearchiv, in dem im wahrsten Sinne des Wortes zahlreiche Schätze verborgen liegen. Von den ältesten Aktenbeständen, den Zensur-und Absentenbüchern der Werk- und Feiertagsschule Grünwald aus den Jahren 1823-1866 über den Straßenbahnvertrag von 1910 bis hin zu historischen Fotos, Bildern und Postkarten findet man dort eine Vielzahl an Preziosen, die die Geschichte Grünwalds lebendig werden lassen.&lt;/p&gt; 
DTSTART:20170331T150000
DTEND:20170331T170000
LOCATION:Rathaus, Haupteingang· Rathausstr. 3
ORGANIZER:MVHS München Ost
END:VEVENT
END:VCALENDAR