BEGIN:VCALENDAR
VERSION:2.0
PRODID:-//Stadtgeschichte München//DE
CALSCALE:GREGORIAN
BEGIN:VEVENT
UID:12856@stadtgeschichte-muenchen.de
SUMMARY:Druckfrisch aus der Presse 
DESCRIPTION:&lt;p&gt;Vom Poilzeibericht über Veranstaltungenu nd Kommunalpolitiki nformiert der Isar-Anzeigear ktuell darüber,w as in Grünwald passier.t Hergestellt wird das Amtsblatt und die Heimatzeitung der Gemeinden Grünwald und Pullach beim Isar-Druck, einer kleinen OffsetDruckerei . Gegründet wurde die Druckerei 1991 und hat sich auf den Druck kleinereru nd mittlerer Auflagen spezialisier.t Hinter den Kulissen wird gezeigt, wie aus einer Vorlage eine schöne „Drucksache&quot; wird. Die Führungi st für Erwachsenek onzipiert, Kinder können bei Interessea ber gerne teilnehmen.&lt;/p&gt; &lt;p&gt;- Führung Grünwald Kirstin Lauer· Treffpunkt: &amp;nbsp;O · fr 10.00 bis 12.00 Uhr· 31.3 .2017 · Gebührenfrei· Anmeldung erforderlich · 8 Plätze&lt;/p&gt; 
DTSTART:20170331T100000
DTEND:20170331T120000
LOCATION:Isar-Druck Grünwald · Rathausstr.10
ORGANIZER:MVHS München Ost
END:VEVENT
END:VCALENDAR