BEGIN:VCALENDAR
VERSION:2.0
PRODID:-//Stadtgeschichte München//DE
CALSCALE:GREGORIAN
BEGIN:VEVENT
UID:12864@stadtgeschichte-muenchen.de
SUMMARY:Radeln zu den Bajuwaren 
DESCRIPTION:&lt;p&gt;Lang vor der Gründung Münchens waren sie schon in der Gegend. Aber was haben sie hier gemacht? Und wo kamen sie her? Unsere Sommer-Radl-Toubre gibt sich auf Spurensuche entlang versteckter Hinweise auf Leben, Lieben, Glauben und Sterben der ersten Bayern im Münchner Osten. Wenn man weiß, wie, lässt sich am Wegesrand manches Rätsel der alten Bajuwaren entschlüsseln. Von Johanneskirchen geht es mit dem eigenen Radl über Aschheim bis zum originalgetreu mit authentischen Materialien und Techniken nachgebauten Bajuwarendorf in Kirchheim. Dies können die Teilnehmer im Anschluss auf eigene Faust erkunden (Eintritt ca.€ 2.-).&lt;/p&gt; &lt;p&gt;Bei schlechter Wetterlage bitte die Dozentin (0170-526 53 56) anrufen.&lt;/p&gt; &lt;p&gt;Bei eindeutig schlechtem Wetter wird die Veranstaltung um eine Woche verschoben.&lt;/p&gt; &lt;p&gt;&amp;nbsp;· Treffpunkt: · so 11.00 bis 13.30 Uhr· 13.8.2017 · € 6.- · Restkarten vor Ort · Auch mit MVHS-Card · 15 Plätze&lt;/p&gt; 
DTSTART:20170813T110000
DTEND:20170813T133000
LOCATION:S-Bahnhof Johanneskirchen (Ostseite, am Kiosk)
ORGANIZER:MVHS München Ost
END:VEVENT
END:VCALENDAR