BEGIN:VCALENDAR
VERSION:2.0
PRODID:-//Stadtgeschichte München//DE
CALSCALE:GREGORIAN
BEGIN:VEVENT
UID:12892@stadtgeschichte-muenchen.de
SUMMARY:Der Nymphenburger Schlosspark unter Kurfürst Max Emanuel
DESCRIPTION:&lt;p&gt;&amp;nbsp;&lt;/p&gt; &lt;p&gt;&lt;br /&gt; &lt;strong&gt;&amp;nbsp;&lt;/strong&gt;&lt;/p&gt; &lt;p&gt;&amp;nbsp;&lt;/p&gt; &lt;p&gt;&lt;br /&gt; &amp;nbsp;&lt;/p&gt; 
DTSTART:20170715T140000
DTEND:20170715T153000
LOCATION:Haupteingang Schloss Nymphenburg
ORGANIZER:Bayerische Schlösserverwaltung
END:VEVENT
END:VCALENDAR