BEGIN:VCALENDAR
VERSION:2.0
PRODID:-//Stadtgeschichte München//DE
CALSCALE:GREGORIAN
BEGIN:VEVENT
UID:12908@stadtgeschichte-muenchen.de
SUMMARY:Schlachtenlärm und Feldherrnglück  
DESCRIPTION:
DTSTART:20170611T140000
DTEND:20170611T153000
LOCATION:Kasse Neues Schloss Schleißheim
ORGANIZER:Bayerische Schlösserverwaltung
END:VEVENT
END:VCALENDAR