BEGIN:VCALENDAR
VERSION:2.0
PRODID:-//Stadtgeschichte München//DE
CALSCALE:GREGORIAN
BEGIN:VEVENT
UID:12931@stadtgeschichte-muenchen.de
SUMMARY:115 Jahre lsartalverein
DESCRIPTION:&lt;p&gt;Im Mai 1902 gründete der bekannte Architekt Gabriel von Seidl&amp;nbsp;mit einem „illustren Kreis&quot; Münchner Bürger den lsartalverein. Bis heute bemüht sich Deutschlands ältester Naturschutzverein um die Belange des lsartals. Auf einem Spaziergang vom Thalkirchner Platz bis zum 1908 in Betrieb gegangenen Kraftwerk Isar II am westlich der Isar verlaufenden Isar-Werk-Kanal werden die Erfolge und Misserfolge des Vereins sowie die Situation der Isar nach der Renaturierung erläutert.&lt;/p&gt; &lt;p&gt;Wenn Sie einen Gebärdensprachdolmetschebre nötigen, senden Sie bitte eine E-Mail an barrierefrei-lernen@mvh.dse.&lt;/p&gt; 
DTSTART:20170729T140000
DTEND:20170729T160000
LOCATION:U-Bahnhof Thalkirchen (U3) · Ausgang Schäftlarnstr.
ORGANIZER:MVHS München Süd
END:VEVENT
END:VCALENDAR