BEGIN:VCALENDAR
VERSION:2.0
PRODID:-//Stadtgeschichte München//DE
CALSCALE:GREGORIAN
BEGIN:VEVENT
UID:12936@stadtgeschichte-muenchen.de
SUMMARY:Wo das Trinkwasser gesammelt wird
DESCRIPTION:&lt;p&gt;In München fließt eines der besten Trinkwasser Europas aus den Wasserhähnen. Es stammt direkt aus dem bayerischen Voralpenland. Wie kommt das Wasser nach München und welcher Aufwand steht hinter der Versorgung unserer Stadt? Von der S-Bahnstation Buchenhain wandern Sie zum Hochbehälter Forstenrieder Park. Ein Vertreter der Stadtwerke München startet mit Informationen zur Gewinnung und Qualität des Münchner Wassers und erklärt Ihnen die Technik. Anschließend besichtigen Sie den Hochzonenbehälter.&amp;nbsp;&lt;/p&gt; 
DTSTART:20170915T140000
DTEND:20170915T160000
LOCATION:Hochzonenbehälter Forstenrieder Park· Augusten geräumt
ORGANIZER:MVHS München Süd
END:VEVENT
END:VCALENDAR