BEGIN:VCALENDAR
VERSION:2.0
PRODID:-//Stadtgeschichte München//DE
CALSCALE:GREGORIAN
BEGIN:VEVENT
UID:12938@stadtgeschichte-muenchen.de
SUMMARY:Idyllen der Großstadt
DESCRIPTION:&lt;p&gt;Das stimmungsvolle Kloster Warnberg birgt feine Kunstwerke von Erasmus Grasseru nd Johann Baptist Straub; auf seinem Geländeb esteigen wir den höchstgelegenen Punkt Münchens. Zuvor spazieren wir durch das Dorf Solln: Alt-Solln ist der größte und reizvollste Dorfkern im heutigen Münchner Stadtgebiet. Die im Kern mittelalterliche Kirche an der Herterichstraße, idyllische Plätze und Straßens owie Bauernhöfe, Handwerkersitze, Landhäuser und Gasthöfe sind die vielfältigen Kostbarkeiten auf diesem Rundgang.&lt;/p&gt; &lt;p&gt;- Führung Solln · Treffpunkt: · mi 14.30 bis 17.00 Uhr· 5.7.2017 · € 8.-&lt;/p&gt; 
DTSTART:20170705T143000
DTEND:20170705T170000
LOCATION:Portal Pfarrkirche St. Johann Baptist · Fellererplatz
ORGANIZER:MVHS München Süd
END:VEVENT
END:VCALENDAR