BEGIN:VCALENDAR
VERSION:2.0
PRODID:-//Stadtgeschichte München//DE
CALSCALE:GREGORIAN
BEGIN:VEVENT
UID:12945@stadtgeschichte-muenchen.de
SUMMARY:Rundgang durch die Villenkolonie Hadern
DESCRIPTION:&lt;p&gt;Das hatte Münchens Immobilien-Mogul Jakob Heilmann geschickt eingefädelt. Vor gut hundert Jahren verkaufte er zuerst der Stadt München den Grund für den neuen Waldfriedhof und bekam dazu auch gleich noch die Straßenbahn bis in den entlegenen Westen. Damit wurde das ferne Großhadern plötzlich zu einem begehrten Wohnort. Nicht nur für kleine Häusle-Bauers, ondern auch für die feinen Herrschaften bis hin zum ersten bayerischen Ministerpräsidenten. Machen Sie mit uns einen Spaziergangin die Vergangenheit von Haderns einstiger Villenkolonie und seinen Bewohnern.&lt;/p&gt; 
DTSTART:20170728T160000
DTEND:20170728T180000
LOCATION:Bushaltestelle 54 · Ecke Würmtalstr./ Kriegerheimstr.
ORGANIZER:MVHS München Süd
END:VEVENT
END:VCALENDAR