BEGIN:VCALENDAR
VERSION:2.0
PRODID:-//Stadtgeschichte München//DE
CALSCALE:GREGORIAN
BEGIN:VEVENT
UID:12951@stadtgeschichte-muenchen.de
SUMMARY:Die Türkisch-Islamische-Gemeinde zu München-Pasing e.V. (Pasinger Moschee)
DESCRIPTION:&lt;p&gt;In prominenter Lage an der Planegger Straße beherbergt das Moschee-&amp;nbsp;und Kulturzentrum seit Mai 1999 eine muslimische Gemeinde. Hier&amp;nbsp;sind Gebetsräume, ein Frauen- und Jugendzentrum, Versammlungsräume und Räume&amp;nbsp;für das islamische Totenritual untergebracht. Ein&amp;nbsp;kleines Geschäft und eine Teestube der Gemeinde befinden sich im&amp;nbsp;Erdgeschoss. Unter der lichtdurchfluteten Dachkuppel liegt der kostbar mit Mosaikornamenten ausgestattete Gebetsraum. Vor der Führung erhalten Sie eine kurze Einführung in den Islam. Im Anschluss&amp;nbsp;besteht die Möglichkeit zum Gespräch, bei türkischem schwarzen&amp;nbsp;Tee in der Teestube der Gemeinde.&lt;/p&gt; &lt;p&gt;&amp;nbsp;&lt;/p&gt; 
DTSTART:20170517T190000
DTEND:20170517T210000
LOCATION:Türkisch-islamisches Kulturzentrum, Planegger Str. 18 a
ORGANIZER:MVHS München West
END:VEVENT
END:VCALENDAR