BEGIN:VCALENDAR
VERSION:2.0
PRODID:-//Stadtgeschichte München//DE
CALSCALE:GREGORIAN
BEGIN:VEVENT
UID:12956@stadtgeschichte-muenchen.de
SUMMARY:Stadtentwicklung im Münchner Westen
DESCRIPTION:&lt;p&gt;Im 22. Stadtbezirk wird sich in den nächsten Jahrzehnten sehr viel verändern. An diesem Abend werden die vielfältigen Themen, die diese Veränderung mit sich bringt, angesprochen, So ist z.B. im Stadtteil Aubing der Ensembleschutz wichtig. In Freiharnd rängt sich dagegen die Frage auf, wie viel Grün bleibt übrig? Zusätzlichb eschäftigen wir uns mit den Themen Identifikation mit dem Stadtteil und Auswirkungen der Verdichtung auf die Infrastruktur des Stadtbezirks.&lt;/p&gt; 
DTSTART:20170427T183000
DTEND:20170427T200000
LOCATION:Kulturzentrum ubo9 · Ubostr. 9 
ORGANIZER:MVHS München West
END:VEVENT
END:VCALENDAR