BEGIN:VCALENDAR
VERSION:2.0
PRODID:-//Stadtgeschichte München//DE
CALSCALE:GREGORIAN
BEGIN:VEVENT
UID:12959@stadtgeschichte-muenchen.de
SUMMARY:Stadtteilspaziergang Freiham: Ein neuer Stadtteil entsteht 
DESCRIPTION:&lt;p&gt;In Freiharn soll Wohnraum für 20000 Menschen geschaffen werden. Die Bauarbeiten haben begonnen. In einem Spaziergang mit Start am S-Bahnhof Freiharn soll die Planung im spannungsfeld zwischen den Ortsteilen Aubing und Neuaubing sowie der freien Feldflur vorgestellt werden. Wie sehen die nächsten Planungsschritte und Bauvorhaben aus? Welche Infrastruktur (Bildung, Soziales, Kultur, Naherholung, Verkehr, Gewerbe etc.) ist vorgesehen? Welche Lebensqualität wird der künftige Stadtteil bieten? Welche Veränderungen werden auf 3 Aubing und Neuaubing zukommen?&lt;/p&gt; &lt;p&gt;In Kooperation mit dem Referat für Stadtplanung und Bauordnung.&lt;/p&gt; 
DTSTART:20170517T173000
DTEND:20170517T190000
LOCATION:S-Bahnhof Freiharn, am Vorplatz vor dem Ärztehau
ORGANIZER:MVHS München West
END:VEVENT
END:VCALENDAR