BEGIN:VCALENDAR
VERSION:2.0
PRODID:-//Stadtgeschichte München//DE
CALSCALE:GREGORIAN
BEGIN:VEVENT
UID:12960@stadtgeschichte-muenchen.de
SUMMARY:Stadtteiltour: Von der Freiluftbox zum Freiluftsupermarkt
DESCRIPTION:&lt;p&gt;Im Frühjahr entsteht am Westkreuz eine Freiluftbox, sie steht thematisch in Zusammenhang mit dem Freiluftsupermarkt im neuen Stadtteil Freiharn. Was genau ist die Freiluftbox? Wie funktioniert ein Freiluftsupermarkt? Wie kann ich mich als Bürger an diesen Projekten beteiligen? Diese und viele weitere Fragen werden auf unserer Tour, die bei der Freiluftbox im Westkreuz beginnt und einem gemeinsamen Picknick im Freiluftsupermarkt endet, beantwortet.&lt;/p&gt; &lt;p&gt;Bitte MW-Karte mitbringen&lt;/p&gt; 
DTSTART:20170527T100000
DTEND:20170527T140000
LOCATION:Stadtteilladen Westkreuz · Friedrichshafener Str. 11
ORGANIZER:MVHS München West
END:VEVENT
END:VCALENDAR