BEGIN:VCALENDAR
VERSION:2.0
PRODID:-//Stadtgeschichte München//DE
CALSCALE:GREGORIAN
BEGIN:VEVENT
UID:12964@stadtgeschichte-muenchen.de
SUMMARY:Besuch beim Milchbauern Koch
DESCRIPTION:&lt;p&gt;In der Millionenstadt München gibt es noch einige bewirtschaftete Bauernhöfe. Wie wird ein moderner landwirtschaftlicher Betrieb heute geführt? Wie funktioniert Münchens erste Milchzapfstelle ,,Millymat&quot;? Wohin mit dem lieben Vieh? Beieinem Besuch auf ihrem Aubinger Bauernhof geben Ihnen Steffi und Georg Koch Jun. einen Einblick in die moderne Stallhaltung.&lt;/p&gt; 
DTSTART:20170428T093000
DTEND:20170428T113000
LOCATION:Landwirt Koch · Eichenauer Str. 35
ORGANIZER:MVHS München West
END:VEVENT
END:VCALENDAR