BEGIN:VCALENDAR
VERSION:2.0
PRODID:-//Stadtgeschichte München//DE
CALSCALE:GREGORIAN
BEGIN:VEVENT
UID:12976@stadtgeschichte-muenchen.de
SUMMARY:Besuch bei der Polizeiinspektion Neuhausen
DESCRIPTION:&lt;p&gt;Der Schutzbereich der Polizeiinspektion 42, Neuhausen, umfasst die Stadtbezirke Neuhausen, Nymphenburg, Gern sowie die westliche Maxvorstadt. Sie haben Gelegenheit, einen Blick â€žhinter die Kulissen&quot; zu werfen und erhalten Informationen über die Polizeiarbeit aus erster Hand. Gültiger Personalausweis ist bei der Führung unbedingt erforderlich.&lt;/p&gt; &lt;p&gt;Im Rahmen des Festjahres „ 850 Jahre Neuhausen&quot;.&lt;/p&gt; 
DTSTART:20170410T150000
DTEND:20170410T173000
LOCATION: Polizeiinspektion 42, Landshuter Allee 38
ORGANIZER:MVHS München West
END:VEVENT
END:VCALENDAR