BEGIN:VCALENDAR
VERSION:2.0
PRODID:-//Stadtgeschichte München//DE
CALSCALE:GREGORIAN
BEGIN:VEVENT
UID:12978@stadtgeschichte-muenchen.de
SUMMARY:Unbekannte Blickwinkel im Nymphenburger Schlosspark
DESCRIPTION:&lt;p&gt;Am 1. Juli 1663 erhielt Kurfürstin Henriette Adelaide von Savoyen die „ Schwaige Kemnath&quot; vom Kurfürsten als Geschenk und 1664 wurde auf dem Areal mit den Bauarbeiten für das Nymphenburger Schloss begonnen. Unser Spaziergangn immt den Schlossparka n ausgewählten, eher unbekannten Orten in den Blickwinkel. Die Führung konzentriert sich auf den Westteil des Schlossparks und endet am Laimer Tor des Schlossparks. Die Führung findet in den Außenanlagen statt.&lt;/p&gt; 
DTSTART:20170311T140000
DTEND:20170311T160000
LOCATION:Endhaltestelle der Trambahnlinie 17 · Amalienburgstr.
ORGANIZER:MVHS München West
END:VEVENT
END:VCALENDAR