BEGIN:VCALENDAR
VERSION:2.0
PRODID:-//Stadtgeschichte München//DE
CALSCALE:GREGORIAN
BEGIN:VEVENT
UID:12991@stadtgeschichte-muenchen.de
SUMMARY:Kelten, Hohenzollern und Deutscher Orden in Mittelfranken
DESCRIPTION:&lt;p&gt;Das Archäologische Museum Thalmässing und das Geschichtsdorf Landersdorfen tführen uns in die Zeit der Kelten. Die auf einer 630 m hohen Bergkuppeg elegene Hohenzollernfestung Wülzburg ist ein eindrucksvolles Denkmal des Renaissancefestungsbaus. Als. mächtigste Ballei im Deutschen·Orden stellte das kleine Ellingen ehemals das Zentrum einer weitgespannten Territorial-und Wirtschaftsmacht dar. Die repräsentative &amp;nbsp;Schlossanlage wurde ab 1708 gebaut und die spätgotische Schlosskirche barockisiert.&lt;/p&gt; &lt;p&gt;Busexkursion in Kooperation mit Reisen und Bildung GmbH.&lt;/p&gt; 
DTSTART:20170426T080000
DTEND:20170426T200000
LOCATION:Alter Botanischer Garten · Elisenstr.
ORGANIZER:MVHS
END:VEVENT
END:VCALENDAR