BEGIN:VCALENDAR
VERSION:2.0
PRODID:-//Stadtgeschichte München//DE
CALSCALE:GREGORIAN
BEGIN:VEVENT
UID:13020@stadtgeschichte-muenchen.de
SUMMARY:St. Johann Baptist in Haidhausen
DESCRIPTION:&lt;p&gt;Zwei Jahre vor der Eingemeindung nach München (1854) begann man in der „Vorstadt&quot; Haidhausen mit dem Bau einer geräumigen Stadtpfarrkirche. Für den Bau, der sich architektonisch auf die Auer Pfarrkirche Mariahilf bezog, konnte man eine eigene Ziegelei am Ostrand der Pfarrei nutzen. Der Bau kam aus finanziellen Gründen mehrfach ins Stocken, konnte aber mit Hilfe von Lotterien um 1879 fertig gestellt werden. Trotz Kriegszerstörungen blieben der Marmoraltar (1860, Knabl) und die Farbfenster (A. Pacher) aus der Zeit vor dem 1. Weltkrieg erhalten.&lt;/p&gt; 
DTSTART:20170819T110000
DTEND:20170819T130000
LOCATION:St. Johann Baptist, Kirchenportal · Johannisplatz2 22
ORGANIZER:MVHS
END:VEVENT
END:VCALENDAR