BEGIN:VCALENDAR
VERSION:2.0
PRODID:-//Stadtgeschichte München//DE
CALSCALE:GREGORIAN
BEGIN:VEVENT
UID:13024@stadtgeschichte-muenchen.de
SUMMARY:Neue Nachbarschaften im historischen Szeneviertel Haidhausen III 
DESCRIPTION:&lt;p&gt;Das neue Bildungszenrtum der Münchner Volkshochschulew urde in einem historischen Gebäudekomplex der Münchner Stadtwerke errichtet. Es verbindet moderne Architektur mit Denkmalschutz und Ziegelstein, einem Baumaterial von lokaler Bedeutung. Von hier führt der Weg durch den beliebten Stadtteil Haidhausen zur Hauptkirche St. Johannis, den verführerischen Marktständen am Wiener Platz hinüber zur Prinzregentenstraße, wo Franz von Stuck seine berühmte Künstlervilla als Gesamtkunstwerk gestaltete.&lt;/p&gt; &lt;p&gt;Im Rahmen der Eröffnungswoche des Einstein 28&lt;/p&gt; 
DTSTART:20170309T160000
DTEND:20170309T173000
LOCATION:Foyer· Einsteinstr . 28
ORGANIZER:MVHS
END:VEVENT
END:VCALENDAR