BEGIN:VCALENDAR
VERSION:2.0
PRODID:-//Stadtgeschichte München//DE
CALSCALE:GREGORIAN
BEGIN:VEVENT
UID:13029@stadtgeschichte-muenchen.de
SUMMARY:München - Die nördlichste Stadt Italiens I
DESCRIPTION:&lt;p&gt;Vom Marienplatz zur Residenz Es mag noch ein paar andere deutsche Städte geben, die für sich in Anspruch nehmen, die nördlichste Stadt Italiens zu sein - in München aber wird die italienische Lebensart seit Jahrhunderten gepflegt. Die „welschen&quot; Hauben der Frauenkirches ind das Wahrzeichen der Stadt und zugleich eins der ältesten Zeichen ihrer ltalianita. Am Münchner Hof fand 1568 die erste Aufführung der Commedia dell\'arte nördlich der Alpen statt und hundert Jahre später heiratete der bayerische Kurfürst eine Italienerin, die Opernmusik und barocke Baukunst mitbrachte.&lt;/p&gt; 
DTSTART:20170915T150000
DTEND:20170915T163000
LOCATION:Mariensäule · Marienplatz
ORGANIZER:MVHS
END:VEVENT
END:VCALENDAR