BEGIN:VCALENDAR
VERSION:2.0
PRODID:-//Stadtgeschichte München//DE
CALSCALE:GREGORIAN
BEGIN:VEVENT
UID:13031@stadtgeschichte-muenchen.de
SUMMARY:Richard Wagner und Ludwig II.
DESCRIPTION:&lt;p&gt;Im 19. Jahrhundert sorgte die Freundschafzt wischen Ludwig II. und Richard Wagner in ganz München für erregten Gesprächsstoff. Musikalisches Genie und königliche Schwärmerei, politische Intrigen und skandalöse Enthüllungen, triumphale Erfolge, ein aufgebrachtes Kabinett und ein letztes Ultimatum ... Zwischen Altstadt und Prinzregententheater verfolgen wir die Spuren einer königlichen Freundschaft, die München neben einem handfesten Eklat einige der größten Momente der Musikgeschichte bescherte.&lt;/p&gt; &lt;p&gt;Bitte mitbringen: MW- Ticket&lt;/p&gt; 
DTSTART:20170512T160000
DTEND:20170512T173000
LOCATION:vor dem Hotel Bayerischer Hof · Promenadenplatz 2-6 
ORGANIZER:MVHS
END:VEVENT
END:VCALENDAR