BEGIN:VCALENDAR
VERSION:2.0
PRODID:-//Stadtgeschichte München//DE
CALSCALE:GREGORIAN
BEGIN:VEVENT
UID:13035@stadtgeschichte-muenchen.de
SUMMARY:Der Englische Garten - vom Militärgarten zum Landschaftspark
DESCRIPTION:&lt;p&gt;Benjamin Thompson, der spätere Graf Rumford, schlug Kurfürst Carl Theodor die Anlage des Englischen Gartens vor. Aus den Militärgärten wurde der erste Volksgarten auf dem Kontinent nach den Plänen von Friedrich Ludwig Sckell. Auf einem Spaziergang lernen Sie Gestaltungsprinzipien, Parkarchitekturen, Denkmäler und wichtige Daten kennen. Erholen sich Sie sich auf anmutigen Wegen mit Blick in die Weite!&lt;/p&gt; 
DTSTART:20170730T170000
DTEND:20170730T183000
LOCATION:Haus der Kunst· Prinzregentenstr. 1 (Eingang)·
ORGANIZER:MVHS
END:VEVENT
END:VCALENDAR