BEGIN:VCALENDAR
VERSION:2.0
PRODID:-//Stadtgeschichte München//DE
CALSCALE:GREGORIAN
BEGIN:VEVENT
UID:13045@stadtgeschichte-muenchen.de
SUMMARY:Sagenhaftes München für die Allerkleinsten
DESCRIPTION:&lt;p&gt;Das Münchner Kindl begleitet euch mit Kutte und Kapuze durch München. Habt ihr schon die versteckten Tiere entdeckt? Drache, Katze, Löwe, Pferd? Kennt ihr das Münchner Christkindl und findet ihr verborgene Brezen? Wir suchen und spielen uns durch Münchens Altstadt begleitet von den schönsten kindgerechten Sagen.&lt;/p&gt; 
DTSTART:20170607T150000
DTEND:20170607T170000
LOCATION:Alter Peter am Turm · Rindermarkt 1
ORGANIZER:MVHS
END:VEVENT
END:VCALENDAR