BEGIN:VCALENDAR
VERSION:2.0
PRODID:-//Stadtgeschichte München//DE
CALSCALE:GREGORIAN
BEGIN:VEVENT
UID:1311@stadtgeschichte-muenchen.de
SUMMARY:Künstler und Literaten auf dem Nordfriedhof
DESCRIPTION:&lt;p&gt;Auf dem Nordfriedhof sind eine Reihe von K&amp;uuml;nstlerinnen und K&amp;uuml;nstlern beerdigt. Bei unserem Spaziergang &amp;uuml;ber den Friedhof besuchen wir die Gr&amp;auml;ber einiger davon. Wir erinnern uns an Maler und Karikaturisten, Schriftsteller und Poeten, B&amp;uuml;hnenschauspieler und Fernsehstars, S&amp;auml;nger und Kabarettisten. Dabei treffen wir auch auf Originale wie die Sch&amp;ouml;nheitsk&amp;ouml;nigin von Schneizlreuth, den B&amp;uuml;rgermeister der &amp;bdquo;Traumstadt&amp;ldquo; Schwabing, die Figur des Herrn Hirnbei&amp;szlig; und die Hausmeisterin Else Kling aus der &amp;bdquo;Lindenstra&amp;szlig;e&amp;ldquo;.&lt;/p&gt; &lt;p&gt;In Zusammenarbeit mit dem Kulturverein Alte Heide e. V.&lt;/p&gt;
DTSTART:20111120T100000
DTEND:20111120T123000
LOCATION:Nordfriedhof, Eingang der Aussegnungshalle, Ungererstr. 130
ORGANIZER:MVHS München Mitte   
END:VEVENT
END:VCALENDAR