BEGIN:VCALENDAR
VERSION:2.0
PRODID:-//Stadtgeschichte München//DE
CALSCALE:GREGORIAN
BEGIN:VEVENT
UID:1317@stadtgeschichte-muenchen.de
SUMMARY:Der Alte St. Georgsaltar von 1510
DESCRIPTION:&lt;p&gt;Das wertvollste Milbertshofener Kulturgut, der sp&amp;auml;tgotische Fl&amp;uuml;gelaltar von 1510, steht nach einer Generalrestaurierung wieder an seinem angestammten historischen Ort in der Alten St. Georgskirche am Alten-St.-Georgs-Platz. Er wurde vom Kloster Sch&amp;auml;ftlarn gestiftet und zeigt im Schrein den Kampf mit dem Drachen. In der Bemalung der Fl&amp;uuml;gel sind die Martyrien des Hl. Georg dargestellt. Der Hochaltar stammt aus der M&amp;uuml;nchner Schule zwischen Gabriel Mieskircher und dem ber&amp;uuml;hmten Jan Pollack.&lt;/p&gt;
DTSTART:20111130T140000
DTEND:20111130T153000
LOCATION:Alter St.-Georgs-Plat
ORGANIZER:MVHS München Mitte   
END:VEVENT
END:VCALENDAR