BEGIN:VCALENDAR
VERSION:2.0
PRODID:-//Stadtgeschichte München//DE
CALSCALE:GREGORIAN
BEGIN:VEVENT
UID:13179@stadtgeschichte-muenchen.de
SUMMARY:Westfriedhof
DESCRIPTION:
DTSTART:20170517T160000
DTEND:20170517T180000
LOCATION:Haupteingang, Aussegnungshalle Baldurstraße 28
ORGANIZER:Städtische Friedhöfe München
END:VEVENT
END:VCALENDAR