BEGIN:VCALENDAR
VERSION:2.0
PRODID:-//Stadtgeschichte München//DE
CALSCALE:GREGORIAN
BEGIN:VEVENT
UID:1319@stadtgeschichte-muenchen.de
SUMMARY:Moosach, das alte Dorf
DESCRIPTION:&lt;p&gt;Das Dorf Moosach entstand im frühen Mittelalter entlang der Pelkovenstraße. Es gehört zu den ältesten Orten in München und war bis 1913 selbstständige Gemeinde. Bis in die fünfziger Jahre hatte Moosach noch seinen dörflichen Charakter, als dann die städtebauliche Entwicklung mit großen Verwaltungsbauten und Einfamilien- bzw. Reihenhäusern einsetzte. Bei dem Rundgang durch den Ort werden Ihnen die Kirchen, das Schloss und die alten Bauernhäuser in Geschichte und Gegenwart vor Augen geführt.&lt;/p&gt; &lt;p&gt;Aktuelle Fragen dabei sind Denkmalschutz, Verkehrs- und Wohnungsprobleme.&lt;/p&gt; 
DTSTART:20111022T150000
DTEND:20111022T180000
LOCATION:Alte St.-Martins-Kirche, Moosacher- St.-Martins-Platz
ORGANIZER:MVHS München Nord
END:VEVENT
END:VCALENDAR