BEGIN:VCALENDAR
VERSION:2.0
PRODID:-//Stadtgeschichte München//DE
CALSCALE:GREGORIAN
BEGIN:VEVENT
UID:13208@stadtgeschichte-muenchen.de
SUMMARY:Friedhof Grünwald
DESCRIPTION:
DTSTART:20170907T143000
DTEND:20170907T000000
LOCATION:
ORGANIZER:Münchner Begräbnisverein e. V.
END:VEVENT
END:VCALENDAR