BEGIN:VCALENDAR
VERSION:2.0
PRODID:-//Stadtgeschichte München//DE
CALSCALE:GREGORIAN
BEGIN:VEVENT
UID:1321@stadtgeschichte-muenchen.de
SUMMARY:Stadtstreunereien zwischen Münchner Freiheit und „Türkengraben„
DESCRIPTION:&lt;p&gt;Als vom Schwabinger &amp;bdquo;Gro&amp;szlig;en Wirt&amp;ldquo; zum Ungererbad schon eine &amp;bdquo;Elektrische&amp;ldquo; fuhr, wieherten im st&amp;auml;dtischen Pferdebahndepot noch die R&amp;ouml;sser. Wo war das gleich? Schwabing war schon vor der Eingemeindung elektrifiziert. Aber wie war das damals mit den&amp;nbsp; Krankenh&amp;auml;usern, wo war die zweite Volksschule entstanden und wo das Feuerwehrhaus?&lt;br /&gt; F&amp;uuml;r die neue St.-Ursula-Kirche, den &amp;bdquo;Dom von Schwabing&amp;ldquo;, war Platz und Geld knapp &amp;ndash; und w&amp;auml;re das Pumpenwerk am T&amp;uuml;rkengraben nicht abgerissen worden &amp;hellip; Streunen Sie mit uns durch die Schwabinger Stra&amp;szlig;en.&lt;/p&gt;
DTSTART:20111009T110000
DTEND:20111009T130000
LOCATION:Münchner Freiheit, Haltestelle Tram
ORGANIZER:MVHS München Mitte   
END:VEVENT
END:VCALENDAR