BEGIN:VCALENDAR
VERSION:2.0
PRODID:-//Stadtgeschichte München//DE
CALSCALE:GREGORIAN
BEGIN:VEVENT
UID:13236@stadtgeschichte-muenchen.de
SUMMARY:Dort wo es „zünftig“ zugeht...
DESCRIPTION:&lt;p&gt;&lt;strong&gt;Diese Stadtführung durch die Altstadt lässt uns in die Welt des “zünftigen“ Handwerks im alten München eintauchen - Mittelalterliches Leben und Arbeiten in München&lt;/strong&gt;&lt;/p&gt; &lt;p&gt;Was heißt eigentlich &quot;zünftig&quot;? Wer ist zünftig und wer nicht? Was konnte und musste man tun, um die Privilegien einer angesehenen Handwerkszunft zu erlangen, wann verlor man diesen Status?&lt;/p&gt; &lt;p&gt;Sie hören vom Leben und Arbeiten der Handwerker und ihrer Familien, von den zum Teil strengen Zwängen und Regeln, aber auch von stolzen Festen und sozialer Absicherung. Wir werden uns hineinversetzen in alte Arbeitstraditionen, den Zusammenhalt und die hoch geachtete Ehre der einzelnen Mitglieder zünftigen Lebens.&lt;/p&gt; &lt;p&gt;Heute gibt es für gute Arbeit - ein Trinkgeld. Früher hieß es - Badegeld! Für unziemliches, gieriges Verhalten gibt es im Geschäftsleben heute meist keine Schelte. In früheren Zeiten drohte die Bäckerschnelle! Und für einen &quot;Winkelschlächter&quot; gibt es Strafe - früher wie heute!&lt;/p&gt; 
DTSTART:20170417T140000
DTEND:20170417T160000
LOCATION:Innenhof des Isartores
ORGANIZER:STATTreisen München e.V.
END:VEVENT
END:VCALENDAR