BEGIN:VCALENDAR
VERSION:2.0
PRODID:-//Stadtgeschichte München//DE
CALSCALE:GREGORIAN
BEGIN:VEVENT
UID:13242@stadtgeschichte-muenchen.de
SUMMARY:Schloss Nymphenburg
DESCRIPTION:&lt;p&gt;Schloss Nymphenburg trägt die Handschrift des Architekten Joseph Effner. Die über 600 Meter lange, einheitliche Fassadengestaltung ist einzigartig und macht Nymphenburg zu einer der bedeutendsten Schlossanlagen Europas.&lt;/p&gt; &lt;p&gt;Nun soll im nördlichen Schlosskomplex BIOTOPIA entstehen, das erweiterte Museum Mensch und Natur, das mit einer fast fensterlosen Sichtbetonfassade, Blechschindeldächern und breiten Eingangsöffnungen den Bruch mit Effners Architektur „bewusst inszeniert“.&lt;/p&gt; &lt;p&gt;Der Aussenrundgang setzt sich mit der Architektur Effners und dem geplanten Neubau auseinander.&amp;nbsp;&lt;/p&gt; 
DTSTART:20170414T140000
DTEND:20170414T000000
LOCATION:Schloss Nymphenburg, Freitreppe vor dem Museumsshop
ORGANIZER:Bayerischer Landesverein für Heimatpflege e.V.
END:VEVENT
END:VCALENDAR