BEGIN:VCALENDAR
VERSION:2.0
PRODID:-//Stadtgeschichte München//DE
CALSCALE:GREGORIAN
BEGIN:VEVENT
UID:1326@stadtgeschichte-muenchen.de
SUMMARY:Kommunalpolitik in München
DESCRIPTION:&lt;p&gt;Bei einer F&amp;uuml;hrung durch das Rathaus erfahren Sie, wie und wo dort Kommunalpolitik gemacht wird. G&amp;uuml;lseren Demirel, seit 2008 f&amp;uuml;r B&amp;uuml;ndnis 90/Die Gr&amp;uuml;nen im Stadtrat, berichtet &amp;uuml;ber ihre Arbeit im Plenum und in den Aussch&amp;uuml;ssen. Diskutieren Sie aktuelle Anliegen der B&amp;uuml;rgerinnen und B&amp;uuml;rger im M&amp;uuml;nchner S&amp;uuml;den und informieren Sie sich, wie sie Eingang in die Stadtratsbeschl&amp;uuml;sse finden. Au&amp;szlig;erdem besichtigen Sie die Sitzungss&amp;auml;le und die juristische Bibliothek.&lt;/p&gt;
DTSTART:20120110T160000
DTEND:20120110T173000
LOCATION:Rathaus, an der Pforte (Eingang links neben dem Fischbrunnen)
ORGANIZER:MVHS München Mitte   
END:VEVENT
END:VCALENDAR