BEGIN:VCALENDAR
VERSION:2.0
PRODID:-//Stadtgeschichte München//DE
CALSCALE:GREGORIAN
BEGIN:VEVENT
UID:13292@stadtgeschichte-muenchen.de
SUMMARY:Die Geschichtswerkstatt Neuperlach präsentiert (sich):
DESCRIPTION:&lt;p&gt;Wussten Sie, dass es im Marx-Zentrum mal ein Schwimmbad gab? Oder dass Günter Grass im Plettzentrum las und signierte? Oder dass die DKP mit dem sowjetischen Schriftsteller Tschingis Aitmatow für ein volles Haus im Schulzentrum Nord an der Quiddestraße sorgte? Erinnern Sie sich noch an das Trabanten-Stadl oder das Disco-Mobil mit Disco-Monica?&lt;/p&gt; &lt;p&gt;Ganz erstaunliches hält die Geschichte Neuperlachs bereit - schauen Sie, hören Sie, erzählen Sie.&lt;/p&gt; 
DTSTART:20170512T160000
DTEND:20170512T000000
LOCATION:Kulturhaus - Hanns-Seidel-Platz 1
ORGANIZER:Geschichtswerkstatt Neuperlach e.V.
END:VEVENT
END:VCALENDAR