BEGIN:VCALENDAR
VERSION:2.0
PRODID:-//Stadtgeschichte München//DE
CALSCALE:GREGORIAN
BEGIN:VEVENT
UID:13296@stadtgeschichte-muenchen.de
SUMMARY:Nationalsozialismus in München
DESCRIPTION:&lt;p&gt;Die Ausstellung zeigt Entstehung und Ausprägung des National- sozialismus von 1918 bis 1945 in München. Neben seiner Bedeutung als &quot;Hauptstadt der Deutschen Kunst&quot; und &quot;Hauptstadt der Be- wegung&quot; wird Münchens Rolle als Medien- und Rüstungsstandort sowie als Ausgangs- und Aktionsort von Verfolgung und Widerstand beleuchtet. Im Zentrum steht die Frage, was diese Stadt von anderen Städten in Bezug auf den National- sozialismus unterscheidet.&lt;/p&gt; 
DTSTART:20170510T180000
DTEND:20170510T000000
LOCATION:Münchner Stadtmuseum
ORGANIZER:Münchner Stadtmuseum
END:VEVENT
END:VCALENDAR