BEGIN:VCALENDAR
VERSION:2.0
PRODID:-//Stadtgeschichte München//DE
CALSCALE:GREGORIAN
BEGIN:VEVENT
UID:1331@stadtgeschichte-muenchen.de
SUMMARY:Vom Bauerndorf zum Viertel am Rande der Innenstadt:
DESCRIPTION:&lt;p&gt;Das fr&amp;uuml;here Dorf Sendling &amp;ndash; urkundlich fast drei Jahrhunderte fr&amp;uuml;her als M&amp;uuml;nchen zum ersten Mal erw&amp;auml;hnt und sp&amp;auml;ter weit vor dessen Stadtmauern gelegen &amp;ndash; geh&amp;ouml;rt heute beinahe schon zur Innenstadt. Seit der Eingemeindung nach M&amp;uuml;nchen im Jahr 1877 entwickelte sich Sendling rasant vom Bauerndorf zum Stadtteil &amp;ndash; ohne im Kern seine Eigenart ganz zu verlieren. Unternehmen Sie mit uns eine sozialgeschichtliche Reise durch 1500 Jahre Sendlinger Geschichte.&lt;/p&gt;
DTSTART:20120131T193000
DTEND:20120131T210000
LOCATION:Volkshochschule Â· Harras Â· Albert-Roßhaupter- Str. 8
ORGANIZER:MVHS München Mitte   
END:VEVENT
END:VCALENDAR