BEGIN:VCALENDAR
VERSION:2.0
PRODID:-//Stadtgeschichte München//DE
CALSCALE:GREGORIAN
BEGIN:VEVENT
UID:13318@stadtgeschichte-muenchen.de
SUMMARY:Kneipen und Kaffeehäuser
DESCRIPTION:&lt;p&gt;&quot;Das Leben ist eine Begleiterscheinung zum Kaffeehaus.&quot; Diesen launigen Spruch prägte der Dichter und Anarchist Erich Mühsam im frühen 20. Jahrhundetrt mit gutem Grund: Waren es doch die Cafes und Kneipen der Maxvorstadt, in denen&lt;strong&gt;​ &lt;/strong&gt;sich die Literaten der Münchner Boheme mit Vorliebe trafen. Lernen Sie auf diesem Rundgang die Orte kennen, an denen sich berühmte Schriftsteller wie Heinrich Mann, Thomas Mann, Frank Wedekind&lt;strong&gt;​, &lt;/strong&gt;Joachim Ringelnatz, Lion Feuchtwanger und viele andere regelmäßig einfanden, wo sich denkwürdige Begegnungen&amp;nbsp; ereigneten und wo so manche literarische Idee ihren Ursprung hatte.&lt;/p&gt; 
DTSTART:20171027T143000
DTEND:20171027T163000
LOCATION:Treffpunkt: Literaturhaus am Salvatorplatz, Eingang zum Treppenhaus
ORGANIZER:DGB-Bildungswerk Bayern e.V. Region München
END:VEVENT
END:VCALENDAR