BEGIN:VCALENDAR
VERSION:2.0
PRODID:-//Stadtgeschichte München//DE
CALSCALE:GREGORIAN
BEGIN:VEVENT
UID:13322@stadtgeschichte-muenchen.de
SUMMARY:Architektur der Macht in München  
DESCRIPTION:&lt;p&gt;​Die Bauten des NSDAP-Parteizentrums am Königsplatz verkörpern noch heute die in Stein gehauene Ideologie der Nationalsozialisten. Mit der Errichtung des Führerbaus nach den Plänen von Paul Ludwig Troost zementierte Hitler in den 1930er Jahren seinen Machtanspruch und legte gleichzeitig den Grundstein seiner politischen wie persönlichen Repräsentation. Wir schauen uns in einem Rundgang die Bauwerke und das Areal der architektonischen Machtinszenierung an und erfahren mehr über die Wirkungsweise von Baugestaltung sowie ihre Funktion als monumentale Kulisse.&lt;/p&gt; 
DTSTART:20170713T100000
DTEND:20170713T113000
LOCATION:Vor dem NS-Dokumentationszentrum, Brienner Str. 34
ORGANIZER:DGB-Bildungswerk Bayern e.V. Region München
END:VEVENT
END:VCALENDAR