BEGIN:VCALENDAR
VERSION:2.0
PRODID:-//Stadtgeschichte München//DE
CALSCALE:GREGORIAN
BEGIN:VEVENT
UID:13325@stadtgeschichte-muenchen.de
SUMMARY:Biergärten im Süden von München  
DESCRIPTION:&lt;p&gt;Wir besuchen einige Biergärten im Süden von München. Dabei lernen wir die Hintergründe der Entstehung dieser Institutionen kennen und erfahren, was es mit ihrer geschichtlichen Bedeutung auf sich hat. Wir beginnen in Großhesselohe und bewegen uns dann auf der Hangkante der Isar nach Süden. In dieser Gegend können wir drei Biergärten besichtigen. Isarabwärts fahren wir dann über Straßlach und Wörnbrunn zur „Kugler Alm&quot;. An der „Menterschwaige&quot; am Isarhochufer endet dann unsere Tour.&lt;/p&gt; 
DTSTART:20170715T110000
DTEND:20170715T170000
LOCATION:Am S-Bahnhof Großhesselohe (S7), Ostseite Wöllnerplatz
ORGANIZER:DGB-Bildungswerk Bayern e.V. Region München
END:VEVENT
END:VCALENDAR