BEGIN:VCALENDAR
VERSION:2.0
PRODID:-//Stadtgeschichte München//DE
CALSCALE:GREGORIAN
BEGIN:VEVENT
UID:13326@stadtgeschichte-muenchen.de
SUMMARY:Nachtlichter
DESCRIPTION:&lt;p&gt;Wir fahren nachts, um die Stadt auch mal aus dieser Perspektive zu sehen und zu bewundern. Dabei werden der historische Hintergrund der Gebäude sowie die verwendete Beleuchtungstechnik erklärt. Wir beginnen im Umfeld der beleuchteten Bavaria, fahren dann mit Zwischenstationen zum angestrahlten Friedensengel und erleben schließlich den nächtlichen Marienplatz, wo um ca. 23:30 Uhr die Tour endet.&lt;/p&gt; &lt;p&gt;Bitte stellen Sie sicher, dass die Beleuchtung Ihres Fahrrades einwandfrei funktioniert.&lt;/p&gt; 
DTSTART:20170811T210000
DTEND:20170811T233000
LOCATION:Esperantoplatz
ORGANIZER:DGB-Bildungswerk Bayern e.V. Region München
END:VEVENT
END:VCALENDAR