BEGIN:VCALENDAR
VERSION:2.0
PRODID:-//Stadtgeschichte München//DE
CALSCALE:GREGORIAN
BEGIN:VEVENT
UID:13337@stadtgeschichte-muenchen.de
SUMMARY:Ursprünge und frühe Stadtentwicklung Münchens
DESCRIPTION:&lt;p&gt;Als die Stadt München 1158 von Heinrich dem Löwen gegründet wurde, lag sie strategisch günstig auf dem Weg der alten Salzstraße. Jedoch war dies nicht der einzige Grund.&lt;br /&gt; Bereits 1050 hatten sich Tegernseer Mönche hier niedergelassen und 1050 den &quot;Alten Peter&quot; als Basilika erwähnt. Demgemäß geht der Name München wohl auf das Mittelhochdeutsche Munichen bzw. mün(e)ch zurück, was als `bei den Mönchen\' übersetzt wird.&lt;br /&gt; Die angebotenen Touren hängen thematisch zusammen (können jedoch einzeln gebucht werden) und wollen den Blick auf die Ursprünge Münchens legen und wie diese bis heute das Stadtbild beeinflusst haben.&lt;/p&gt; &lt;p&gt;Angebot a (Tour 1): Donnerstag, 13.07.2017, 14:30-17:00 Uhr&lt;br /&gt; Der &quot;Alte Peter&quot; als älteste Kirche Münchens und Ort der Niederlassung Tegernseer Mönche um 1050 im Vergleich mit der angrenzenden Heiliggeist Kirche. Kirchen als Speicher eines kollektiven Geschichtsgedächtnisses. Zwei unterschiedliche Modelle gotischer barockisierter Kirchen und ihre Innenräume zu erleben. (Architektonische Besonderheiten der Petrusfigur des Erasmus Grassers sowie Fresken der Asambrüder)&lt;br /&gt; &lt;br /&gt; Angebot b (Tour 2): Samstag, 29.07.2017, 14:30-17:00 Uhr&lt;br /&gt; Ein Blick auf Jörg von Halspach, gen. Ganghofer, als ersten großer Baumeister Münchens während der Gotik. Sein Hauptwerk die Frauenkirche und das Alte Rathaus in Bezug zum Marienplatz als Zentrum Münchens (u.a. die besonderen Merkmale des gotischen Hallenbaus und Grabdenkmal Kaiser Ludwig IV.).&lt;br /&gt; &lt;br /&gt; Angebot c (Tour 3): Samstag, 07.10.2017 11:00 - 13:30 Uhr&lt;br /&gt; Vermitteln und Erkunden der Altstadtgrenzen Münchens, ihre Ausdehnung und Erleben der ersten stadtplanerischen Gestaltung Münchens unter Ludwig dem Bayer.&lt;br /&gt; Marienplatz als Brennpunkt der Stadtachsen und Betrachtung der alten Einfallstore Münchens (Schwabinger Tor, Isartor, Karlstor und Sendlinger Tor).&lt;/p&gt; 
DTSTART:20170713T143000
DTEND:20170713T170000
LOCATION:Treffpunkt für alle drei Touren ist jeweils die Mariensäule am Marienplatz.
ORGANIZER:DGB-Bildungswerk Bayern e.V. Region München
END:VEVENT
END:VCALENDAR