BEGIN:VCALENDAR
VERSION:2.0
PRODID:-//Stadtgeschichte München//DE
CALSCALE:GREGORIAN
BEGIN:VEVENT
UID:13343@stadtgeschichte-muenchen.de
SUMMARY:Bayerns bedeutende Regenten
DESCRIPTION:&lt;p&gt;Die Verbundenheit mit dem Bayrischen Land leitete die Wittelsbacher. Kaiser Ludwig der Bayer, die Kurfürsten Maximilian I. und Max II. Emanuel, sowie die Könige Max I. und Ludwig I. waren sehr bedeutende Regenten. Sie alle haben gewichtige Spuren in der Stadt hinterlassen. In Form von humorvollen und hintersinnigen Geschichten in bairischer Mundart begegnen uns ihre Persönlichkeiten farbig und anschaulich. Gehen Sie mit auf einen historischen Spaziergang vom Königsplatz bis zum Odeonsplatz.&lt;/p&gt; 
DTSTART:20171006T160000
DTEND:20171006T180000
LOCATION:Königsplatz vor der Glyptothek
ORGANIZER:DGB-Bildungswerk Bayern e.V. Region München
END:VEVENT
END:VCALENDAR