BEGIN:VCALENDAR
VERSION:2.0
PRODID:-//Stadtgeschichte München//DE
CALSCALE:GREGORIAN
BEGIN:VEVENT
UID:1336@stadtgeschichte-muenchen.de
SUMMARY:Mittersendling â€“ unbekannte Ecken einer Großstadt
DESCRIPTION:&lt;p&gt;Der ehemalige Dorfkern rund um die Kirche St. Achaz ist noch zu erahnen, obwohl von der d&amp;ouml;rflichen Bebauung nur wenig geblieben&lt;br /&gt; ist. Durch die heutige Fallstra&amp;szlig;e fuhr einst die Trambahn, die Hangkante wurde durch Bombenschutt-Aufsch&amp;uuml;ttungen nach Osten verschoben. Ein einziger stattlicher Bauernhof blieb mit anderer Nutzung erhalten, ansonsten pr&amp;auml;gen Wohnhausbauten der Gr&amp;uuml;nderzeit und der Nachkriegsjahre das Ortsbild. Unser Rundgang f&amp;uuml;hrt von der neubarocken Kirche, deren Vorg&amp;auml;ngerbau in den zwanziger Jahren abgerissen wurde, zu Jugendstilh&amp;auml;usern, einem vergessenen Biergarten und zum repr&amp;auml;sentativen Geb&amp;auml;ude der M&amp;uuml;nchner Haupt-Sch&amp;uuml;tzengesellschaft mit dem ber&amp;uuml;hmten Gem&amp;auml;lde der &amp;bdquo;Sch&amp;uuml;tzenliesel&amp;ldquo; von Kaulbach.&lt;/p&gt;
DTSTART:20120204T140000
DTEND:20120204T160000
LOCATION:vor der Kirche St. Achaz, Haupteingang Â· Fallstr. 7 
ORGANIZER:MVHS München Mitte   
END:VEVENT
END:VCALENDAR