BEGIN:VCALENDAR
VERSION:2.0
PRODID:-//Stadtgeschichte München//DE
CALSCALE:GREGORIAN
BEGIN:VEVENT
UID:13368@stadtgeschichte-muenchen.de
SUMMARY:Wie eine Zeitung gedruckt wird  
DESCRIPTION:&lt;p&gt;Das Druckzentrum entstand 1984 in einem Außenbereich Münchens, in Steinhausen. Hier werden neben der „Süddeutschen Zeitung&quot; die „Bild&quot;, die „Bild am Sonntag&quot;, „Die Welt&quot;, „Die Welt am Sonntag&quot;, die „Welt kompakt&quot;, das „Handelsblatt&quot;, die „FAZ&quot;, die „FAS&quot; sowie diverse Anzeigenblätter gedruckt. Modernste Technik sichert das Bestehen im Konkurrenzkampf und zugleich über 300 Vollzeitarbeitsplätze. Imposantester Teil des Druckzentrums ist die Halle der Rotationsanlage.Der Kurzfilm „Jeden Tag Druck&quot; dokumentiert, wie die Redakteure im In- und Ausland arbeiten, der anschließende Rundgang zeigt das Druckgeschehen vor Ort.&lt;/p&gt; &lt;p&gt;Den Besuchern wird die Anreise mit öffentl. Verkehrsmitteln empfohlen.&lt;/p&gt; &lt;p&gt;S-Bahn-Haltestelle Berg am Laim, dann ca. 7 Minuten zu Fuß oder U-Bahn-Haltestelle Max-Weber-Platz, von dort Bus 191 bis Haltestelle Gewerbegebiet Steinhausen; S2/S4 Haltestelle Berg am Laim, Tram 25 zum S-Bahnhof Berg am Laim.&lt;/p&gt; 
DTSTART:20170925T164500
DTEND:20170925T181500
LOCATION:Haupteingang, Zamdorfer Str. 40
ORGANIZER:DGB-Bildungswerk Bayern e.V. Region München
END:VEVENT
END:VCALENDAR